BEGIN:VCALENDAR
VERSION:2.0
PRODID:-//Pennsylvanians Together - ECPv6.15.20//NONSGML v1.0//EN
CALSCALE:GREGORIAN
METHOD:PUBLISH
X-ORIGINAL-URL:http://pennsylvanianstogether.org
X-WR-CALDESC:Events for Pennsylvanians Together
REFRESH-INTERVAL;VALUE=DURATION:PT1H
X-Robots-Tag:noindex
X-PUBLISHED-TTL:PT1H
BEGIN:VTIMEZONE
TZID:UTC
BEGIN:STANDARD
TZOFFSETFROM:+0000
TZOFFSETTO:+0000
TZNAME:UTC
DTSTART:20240101T000000
END:STANDARD
END:VTIMEZONE
BEGIN:VEVENT
DTSTART;TZID=UTC:20250306T130000
DTEND;TZID=UTC:20250306T140000
DTSTAMP:20260419T210157
CREATED:20250303T163410Z
LAST-MODIFIED:20250303T181541Z
UID:802316-1741266000-1741269600@pennsylvanianstogether.org
SUMMARY:Federal Fightback Policy Action Zoom Meeting – March 2025
DESCRIPTION:REGISTER HERE!\nJoin us for a call with Representatives Madeleine Dean\, Dwight Evans\, and Summer Lee and a representative from Senator John Fetterman’s office to discuss ways to fight back against the Trump administration’s dangerous actions!\nBackground:\nThe Pennsylvania Policy Center and Pennsylvanians Together have serious concerns and are in opposition to Donald Trump and Republican members of Congress who are calling for an extension and expansion of the 2017 Tax Cuts and Jobs Act. \nThey want to pay for it by making drastic reductions in federal spending for Medicaid\, CHIP\, and SNAP. Pennsylvania voters\, like voters in other states\, strongly support these programs and with good reason. Medicaid provides critical support for millions of Pennsylvanians.
URL:http://pennsylvanianstogether.org/event/federal-fightback-policy-action-meeting-march-2025/
CATEGORIES:Meeting,Virtual
ATTACH;FMTTYPE=image/png:http://pennsylvanianstogether.org/wp-content/uploads/2025/03/Policy-Action-03-06-2025-speakers-1.png
ORGANIZER;CN="Pennsylvania Policy Center":MAILTO:info@pennpolicy.org
END:VEVENT
BEGIN:VEVENT
DTSTART;TZID=UTC:20250320T130000
DTEND;TZID=UTC:20250320T140000
DTSTAMP:20260419T210157
CREATED:20250318T235821Z
LAST-MODIFIED:20250319T153910Z
UID:802402-1742475600-1742479200@pennsylvanianstogether.org
SUMMARY:PPC's Monthly State Policy Action Call – March 2025
DESCRIPTION:REGISTER HERE.\nJoin us at 1 p.m.\, Thursday\, March 20\, or our STATE Policy Action Zoom meeting\, focused on how Pennsylvania billionaires and wealthy corporations skip paying taxes and pay a FAR lower tax rate than working families in the Keystone State — AND how WE can take action together to make sure they start paying something closer to their fair share!\nOur featured guest will be Senator Art Haywood (SD 4 / Phila\, Montgomery) the Democratic chair of the Health and Human Services committee\, a member of the Appropriations and Finance committees\, and a tireless fighter for people across the state! Sen. Haywood will join PA Policy Center’s executive director Marc Stier and policy analyst Castin Stone for a conversation highlighting the ways that greedy corporations and freeloading billionaires undermine our democracy and steal the common wealth of the Commonwealth — AND how the General Assembly and Gov. Shapiro can ensure that our state’s 18 billionaires pay their fair share! Our meeting will include time for a Q&A\, when attendees are invited to submit questions for our presenters.\nSpace is limited\, so REGISTER NOW to save your seat!\nWe look forward to seeing you online this Thursday afternoon at 1:00!
URL:http://pennsylvanianstogether.org/event/state-policy-action-call/
CATEGORIES:Call,Meeting,Virtual
ATTACH;FMTTYPE=image/jpeg:http://pennsylvanianstogether.org/wp-content/uploads/2025/03/ArtHaywoodPolicyAction.jpg
ORGANIZER;CN="Pennsylvania Policy Center":MAILTO:info@pennpolicy.org
END:VEVENT
END:VCALENDAR