BEGIN:VCALENDAR
VERSION:2.0
PRODID:-//Pennsylvanians Together - ECPv6.15.20//NONSGML v1.0//EN
CALSCALE:GREGORIAN
METHOD:PUBLISH
X-ORIGINAL-URL:http://pennsylvanianstogether.org
X-WR-CALDESC:Events for Pennsylvanians Together
REFRESH-INTERVAL;VALUE=DURATION:PT1H
X-Robots-Tag:noindex
X-PUBLISHED-TTL:PT1H
BEGIN:VTIMEZONE
TZID:UTC
BEGIN:STANDARD
TZOFFSETFROM:+0000
TZOFFSETTO:+0000
TZNAME:UTC
DTSTART:20240101T000000
END:STANDARD
END:VTIMEZONE
BEGIN:VEVENT
DTSTART;TZID=UTC:20250403T130000
DTEND;TZID=UTC:20250403T140000
DTSTAMP:20260419T191735
CREATED:20250319T211622Z
LAST-MODIFIED:20250401T051818Z
UID:802422-1743685200-1743688800@pennsylvanianstogether.org
SUMMARY:PPC's Federal Policy Action Call – April 3\, 2025
DESCRIPTION:Join us this Thursday at 1PM for our monthly Federal Policy Action Zoom meeting where we will be sharing the latest  details and updates on the upcoming Washington\, DC\, rally to combat Trump-GOP attacks on vital programs that make it possible for everyone to access affordable health care and food (Medicaid\, SNAP\, and other federal programs) in order to give tax handouts to billionaires and wealthy corporations — and what we can do to fight back.\nWe will be joined by representatives from our national fightback partners for an update about the legislative process and what to expect at the rally:\n– John Foti\, Legislative Director\, Americans for Tax Fairness\, who will discuss legislative updates and latest DC info on the budget; and\n– Hannah Lloyd\, State Campaign Field Director\, Fair Share America\, who will update us on rally details\, including other participating states.\nRegister for this Thursday’s Policy Action Zoom here!
URL:http://pennsylvanianstogether.org/event/ppcs-federal-policy-action-call-april-2025/
CATEGORIES:Call,Meeting,Virtual
ATTACH;FMTTYPE=image/png:http://pennsylvanianstogether.org/wp-content/uploads/2025/03/2025-04-03-Federal-Policy-Action-Updated.png
ORGANIZER;CN="Pennsylvania Policy Center":MAILTO:info@pennpolicy.org
END:VEVENT
BEGIN:VEVENT
DTSTART;TZID=UTC:20250417T130000
DTEND;TZID=UTC:20250417T140000
DTSTAMP:20260419T191735
CREATED:20250401T051316Z
LAST-MODIFIED:20250401T051933Z
UID:802454-1744894800-1744898400@pennsylvanianstogether.org
SUMMARY:PPC's State Policy Action Call - April 17\, 2025
DESCRIPTION:Join us on Thursday\, April 17th\, at 1 p.m. on Zoom for our Pennsylvania Policy Action call!\nMake sure to register via Zoom to receive your link to join: https://bit.ly/PolicyAction041725.\nWe host these virtual meetings on the third Thursday of each month (paired with our FEDERAL Policy Action calls on the first Thursday of the month) with a different current policy priority in the spotlight at every meeting. We’ll provide an overview of “the basics” about each policy\, the status of potential legislation impacting the issue and the people of PA\, and opportunities for organizations and activists to take action to win these policy goals.
URL:http://pennsylvanianstogether.org/event/penn-policy-center-state-policy-action-zoom-call/
CATEGORIES:Call,Meeting,Virtual
ATTACH;FMTTYPE=image/png:http://pennsylvanianstogether.org/wp-content/uploads/2025/03/2025-04-17-Policy-Action-State.png
ORGANIZER;CN="Pennsylvania Policy Center":MAILTO:info@pennpolicy.org
END:VEVENT
END:VCALENDAR