BEGIN:VCALENDAR
VERSION:2.0
PRODID:-//Pennsylvanians Together - ECPv6.15.20//NONSGML v1.0//EN
CALSCALE:GREGORIAN
METHOD:PUBLISH
X-ORIGINAL-URL:http://pennsylvanianstogether.org
X-WR-CALDESC:Events for Pennsylvanians Together
REFRESH-INTERVAL;VALUE=DURATION:PT1H
X-Robots-Tag:noindex
X-PUBLISHED-TTL:PT1H
BEGIN:VTIMEZONE
TZID:UTC
BEGIN:STANDARD
TZOFFSETFROM:+0000
TZOFFSETTO:+0000
TZNAME:UTC
DTSTART:20230101T000000
END:STANDARD
END:VTIMEZONE
BEGIN:VEVENT
DTSTART;TZID=UTC:20240816T183000
DTEND;TZID=UTC:20240816T183000
DTSTAMP:20260420T084111
CREATED:20240729T211053Z
LAST-MODIFIED:20240922T071639Z
UID:801932-1723833000-1723833000@pennsylvanianstogether.org
SUMMARY:Dauphin County Notice & Cure Mobilization Training
DESCRIPTION:Dauphin County Mobilization Training | Implement a notice and cure program!\n\n\n\nVIRTUAL TRAINING: August 13 at 6:30 pm \nAt an upcoming meeting\, the Dauphin County board of elections may consider an important pro-voter policy for November’s election: a notice and cure program. In the 2024 primary\, in Dauphin County\, 296 mail ballots were not counted and in the 2023 General Election\, similarly 109 ballots were not counted. These voters were disenfranchised because they were not notified nor were they allowed to fix their mistakes on their mail-in ballot’s return envelope. Dauphin residents and voters deserve better. And we need your help to make sure a notice and cure policy is both considered AND enacted in Dauphin. \nAdopting a robust notice and cure program would make Dauphin County’s elections more safe\, secure\, and accurate by giving eligible\, active voters the opportunity to correct any minor mistakes on their mail ballot packet and ensure that their vote is counted. \nWe hope voters will attend the upcoming BOE meeting to advocate in favor of Dauphin County implementing a notice and cure program. To get ready\, please attend the VIRTUAL TRAINING on August 13 at 6:30 pm. \nThis training will get you ready to speak on behalf of this pro-voter program. By signing up we will have your contact information and will alert you when the BOE meeting is scheduled.
URL:http://pennsylvanianstogether.org/event/dauphin-county-notice-cure-mobilization-training/
CATEGORIES:Virtual,Webinar
END:VEVENT
END:VCALENDAR