BEGIN:VCALENDAR
VERSION:2.0
PRODID:-//Pennsylvanians Together - ECPv6.15.20//NONSGML v1.0//EN
CALSCALE:GREGORIAN
METHOD:PUBLISH
X-WR-CALNAME:Pennsylvanians Together
X-ORIGINAL-URL:http://pennsylvanianstogether.org
X-WR-CALDESC:Events for Pennsylvanians Together
REFRESH-INTERVAL;VALUE=DURATION:PT1H
X-Robots-Tag:noindex
X-PUBLISHED-TTL:PT1H
BEGIN:VTIMEZONE
TZID:UTC
BEGIN:STANDARD
TZOFFSETFROM:+0000
TZOFFSETTO:+0000
TZNAME:UTC
DTSTART:20250101T000000
END:STANDARD
END:VTIMEZONE
BEGIN:VEVENT
DTSTART;TZID=UTC:20260115T130000
DTEND;TZID=UTC:20260115T140000
DTSTAMP:20260420T043413
CREATED:20260107T032107Z
LAST-MODIFIED:20260115T055325Z
UID:803563-1768482000-1768485600@pennsylvanianstogether.org
SUMMARY:PPC's Monthly State Policy Action Meeting
DESCRIPTION:Join us on Thursday\, January 15\, at 1 p.m. on Zoom for an informative conversation with leaders in efforts to advocate for state government investments that benefit all Pennsylvanians.\nREGISTER HERE!\nIn 3 weeks\, Gov. Josh Shapiro will deliver his 2026 Budget Address to a joint session of the General Assembly of PA\, outlining his proposal for funding vital services like education\, health care\, transportation\, public safety\, affordable housing\, and much more. \nMuch is at stake in the 2026–27 state budget\, and Thursday’s meeting will provide an overview of several crucial funding priorities\, as well as opportunities to make your voice heard.\nRegister now to reserve your seat and receive a Zoom login link and calendar reminder.\nWe look forward to seeing you online at 1:00 on Thursday afternoon!\n 
URL:http://pennsylvanianstogether.org/event/ppcs-monthly-state-policy-action-meeting/
CATEGORIES:Call,Policy Action Meeting,Virtual,ZOOM
ATTACH;FMTTYPE=image/png:http://pennsylvanianstogether.org/wp-content/uploads/2026/01/undefined.png
ORGANIZER;CN="Pennsylvania Policy Center":MAILTO:info@pennpolicy.org
END:VEVENT
BEGIN:VEVENT
DTSTART;TZID=UTC:20260203T150000
DTEND;TZID=UTC:20260203T163000
DTSTAMP:20260420T043413
CREATED:20260122T050542Z
LAST-MODIFIED:20260122T050809Z
UID:803565-1770130800-1770136200@pennsylvanianstogether.org
SUMMARY:Post-PA Budget Address Response
DESCRIPTION:The stakes are high for Pennsylvanians as Gov. Shapiro and the General Assembly begin to negotiate a state budget for 2026–27!\n\nRSVP NOW and join us online at 3 p.m. on Tuesday\, February 3\,  to find out how it could impact you\, your loved ones\, your neighborhood\, and every community in the state — and the opportunities to stand together and take action!\n\nIn less than 2 weeks\, at noon on Tuesday\, 2/3\, the governor delivers his 2026 Budget Address to a joint session of the state Senate & House\, outlining his plan for funding education\, transportation\, childcare\, and other crucial services that Pennsylvanians deserve.\n\nShortly after Gov. Shapiro’s address concludes\, PA Policy Center will host an online discussion with leaders in advocacy efforts\, offering their reactions & responses to Gov. Shapiro’s proposed budget for 2026–27. The forum is tentatively scheduled for 3PM\, but might be adjusted depending on the timing of the Address\, so if you sign up NOW\, we’ll send a reminder email to confirm the exact start time as the event approaches.\n\nOur post-Budget Address meeting on Zoom will “bookend” an online discussion PPC hosted last week\, which featured several allies sharing their state budget priorities for the state budget – transit\, child care/early ed\, public schools\, and tax fairness – and we’ll be revisiting these priorities at our forum on February 3. You can view the recording of the initial conversation on our YouTube page.\n\nRegister TODAY & join us on Tuesday afternoon\, 2/3\, for reactions & responses to the Budget address!
URL:http://pennsylvanianstogether.org/event/post-pa-budget-address-response/
CATEGORIES:Virtual,ZOOM
ATTACH;FMTTYPE=image/png:http://pennsylvanianstogether.org/wp-content/uploads/2026/01/2026-27-Budget-Response-event.png
ORGANIZER;CN="Pennsylvania Policy Center":MAILTO:info@pennpolicy.org
END:VEVENT
BEGIN:VEVENT
DTSTART;TZID=UTC:20260219T130000
DTEND;TZID=UTC:20260219T140000
DTSTAMP:20260420T043413
CREATED:20260203T042448Z
LAST-MODIFIED:20260211T022011Z
UID:803661-1771506000-1771509600@pennsylvanianstogether.org
SUMMARY:Focus on Immigration – PPC Joint Federal/State Policy Action Call
DESCRIPTION:Join us on Zoom for our Joint Federal and State Policy Action Call on Thursday\, February 19\, at 1 p.m.! \nREGISTER HERE to receive the Zoom link! \nWe’ll have federal-level and state-level immigration updates for you\, and we’ll talk about “One Big Beautiful Bill Act” accountability for more than $74 billion going to ICE (Immigration and Customs Enforcement). \nICE is killing people\, and Congress is funding it. Individuals and organizations are searching for ways we can protect our neighbors\, families\, and friends in this moment. We want to provide a national update\, discuss what it looks like in Pennsylvania\, and leave you with a call to action. \nPennsylvanians Together will be joined by the ACLU\, Make The Road PA\, CASA\, and PIC (Pennsylvania Immigration Coalition). \nDon’t forget to REGISTER HERE.
URL:http://pennsylvanianstogether.org/event/ppc-joint-federal-state-policy-action-call-focus-on-immigration/
CATEGORIES:Call,Virtual,ZOOM
ATTACH;FMTTYPE=image/png:http://pennsylvanianstogether.org/wp-content/uploads/2026/02/Feb2026JointPolicyActionMeeting.png
ORGANIZER;CN="Pennsylvania Policy Center":MAILTO:info@pennpolicy.org
END:VEVENT
BEGIN:VEVENT
DTSTART;TZID=UTC:20260305T130000
DTEND;TZID=UTC:20260305T140000
DTSTAMP:20260420T043413
CREATED:20260227T154815Z
LAST-MODIFIED:20260227T154929Z
UID:803720-1772715600-1772719200@pennsylvanianstogether.org
SUMMARY:Federal Policy Action Call: The REAL State of the Union
DESCRIPTION:Join us for our March Federal Policy Action call! Cut through the post–State of the Union spin and get the real story on how federal budget and tax decisions impact everyday Pennsylvanians—not billionaires. We’ll break down what’s happening\, share legislative updates\, and talk through clear next steps to take action together through Pennsylvanians Together: For Our Common Wealth.\n\nMake sure to RSVP through Zoom to receive your link to join: https://bit.ly/PolicyAction030526\n\nFeatured speakers include:– Anna Aurillio\, Senior Director of Campaigns\, Economic Security Project– Gina Plata-Nino\, Director of SNAP Policy & Advocacy at FRAC– John Foti\, Executive Director & Legislative Director\, Americans for Tax Fairness
URL:http://pennsylvanianstogether.org/event/federal-policy-action-call-the-real-state-of-the-union/
CATEGORIES:Call,Virtual,ZOOM
ATTACH;FMTTYPE=image/jpeg:http://pennsylvanianstogether.org/wp-content/uploads/2026/02/643617941_828494410258949_3345942661096023305_n.jpg
END:VEVENT
BEGIN:VEVENT
DTSTART;TZID=UTC:20260319T080000
DTEND;TZID=UTC:20260319T170000
DTSTAMP:20260420T043413
CREATED:20260319T034238Z
LAST-MODIFIED:20260319T034403Z
UID:803780-1773907200-1773939600@pennsylvanianstogether.org
SUMMARY:Working Pennsylvanians Tax Credit 101 — Facebook Live
DESCRIPTION:Join PA Megaphone in conversation with Speaker Joanna McClinton and Felicity Williams\, executive director of Penn Policy Center\, on Facebook Live on Wednesday\, 3/25\, at 6:30 p.m. to learn more about the Working Pennsylvanians Tax Credit and how it can affect your life and the lives of those in your community.  \nHow will this help Pennsylvanians? How does it compare to the Federal Earned Income Tax Credit? About 940\,000 Pennsylvanians qualify. You could be one of them! We’ll talk about this in easy-to-understand terms so you can walk away with the answers to your questions.
URL:http://pennsylvanianstogether.org/event/working-pennsylvanians-tax-credit-101/
CATEGORIES:Facebook Live,Virtual
ATTACH;FMTTYPE=image/jpeg:http://pennsylvanianstogether.org/wp-content/uploads/2026/03/iStock-1488128299.jpg
END:VEVENT
BEGIN:VEVENT
DTSTART;TZID=UTC:20260319T130000
DTEND;TZID=UTC:20260319T140000
DTSTAMP:20260420T043413
CREATED:20260313T020537Z
LAST-MODIFIED:20260317T162132Z
UID:803740-1773925200-1773928800@pennsylvanianstogether.org
SUMMARY:State Policy Action Call: Tax Fairness in PA: The Working Pennsylvanians Tax Credit and the Movement to Tax the Ultra-Rich
DESCRIPTION:REGISTER HERE!\nJoin us Thursday afternoon\, March 19th\, for an online forum focused on the growing statewide movement to fund critical investments in Pennsylvania’s “common wealth” by making billionaires and ultra-rich corporations pay their fair share! \nOur STATE Policy Action meeting for March will begin at 1PM on Zoom and will feature legislative leaders\, policy experts\, and advocates discussing tax fairness in PA\, highlighting the NEW Working Pennsylvanians Tax Credit and the Fair Share plan that’s been introduced in both chambers of the General Assembly. \nOur panel includes Rep. Izzy Smith-Wade-El (HD49 – Lancaster); Erin Serre\, Policy Director for Sen. Art Haywood (SD4 – Phila\, Montco); Ryan Matthews\, PA State Director\, For Our Future; and Jessica Brittain\, Organizing Director\, Action Together NEPA. \nSpace is limited\, so RSVP today and join us at 1PM next Thursday for an lively and enlightening discussion! \nJoin us to learn about the NEW Working Pennsylvanians Tax Credit and the movement in PA to tax the ultra-rich! We host our virtual Policy Action calls on the first and third Thursday of each month. \n  \n 
URL:http://pennsylvanianstogether.org/event/tax-fairness-in-pa-the-working-pennsylvanians-tax-credit-and-the-movement-to-tax-the-ultra-rich/
CATEGORIES:Policy Action Meeting,Virtual,ZOOM
ATTACH;FMTTYPE=image/png:http://pennsylvanianstogether.org/wp-content/uploads/2026/03/2026-03-19-state-policy-action-tax-fairness-final.png
END:VEVENT
BEGIN:VEVENT
DTSTART;TZID=UTC:20260402T130000
DTEND;TZID=UTC:20260402T140000
DTSTAMP:20260420T043413
CREATED:20260327T175137Z
LAST-MODIFIED:20260327T175137Z
UID:803799-1775134800-1775138400@pennsylvanianstogether.org
SUMMARY:Federal Policy Action Call – Rigged Rules: How Wealth Is Shaping Our Democracy
DESCRIPTION:Join us on Thursday\, April 2\, for our monthly Federal Policy Action Call! \nTax Day is coming up and is a reminder of what our tax system should do: fund public investments that make our freedom and opportunity possible. But this season\, billionaires and big corporations are pushing for even more tax breaks while everyday people face growing threats to our freedoms\, our healthcare\, and our democracy. \nWe’re going to be talking about it and the alternative: a fair tax system in Pennsylvania! \nREGISTER TO RECEIVE A ZOOM LINK FOR THE CALL HERE: https://bit.ly/PolicyAction040226.
URL:http://pennsylvanianstogether.org/event/federal-policy-action-call-rigged-rules-how-wealth-is-shaping-our-democracy/
CATEGORIES:Call,Virtual,ZOOM
ATTACH;FMTTYPE=image/jpeg:http://pennsylvanianstogether.org/wp-content/uploads/2026/03/FedPolicyActionApril.jpg
ORGANIZER;CN="Pennsylvania Policy Center":MAILTO:info@pennpolicy.org
END:VEVENT
BEGIN:VEVENT
DTSTART;TZID=UTC:20260423T130000
DTEND;TZID=UTC:20260423T140000
DTSTAMP:20260420T043413
CREATED:20260413T183736Z
LAST-MODIFIED:20260413T183736Z
UID:803824-1776949200-1776952800@pennsylvanianstogether.org
SUMMARY:State Policy Action Call: What Trump's Iran War Is Really Costing PA
DESCRIPTION:Join us at 1 p.m. on Thursday\, April 23\, for the PA Policy Center’s State Policy Action meeting\, when our focus will be “What Trump’s Iran War Is Really Costing PA! \nPPC agrees with Congressman Brendan Boyle (PA-02) that “taxpayers deserve a nonpartisan estimate of the financial and economic impact of President Trump’s reckless war in Iran\,” as well as with members of the PA General Assembly who are calling for an investigation into gasoline price-gouging in our state. \nRSVP HERE!\nThis meeting features PPC’s policy\, research\, & legislative strategy director\, Laura Beltrán Figueroa\, with other experts and leaders\, presenting an overview of the tremendous costs for Pennsylvanians because of Trump’s delusional and illegal actions. \nSpace is limited\, so RSVP TODAY to get the meeting login link & calendar invite. \nWe hope to see you online on Thursday afternoon\, April 23rd! \n 
URL:http://pennsylvanianstogether.org/event/state-policy-action-call-what-trumps-iran-war-is-really-costing-pa/
CATEGORIES:Call,Virtual
ORGANIZER;CN="Pennsylvania Policy Center":MAILTO:info@pennpolicy.org
END:VEVENT
END:VCALENDAR