BEGIN:VCALENDAR
VERSION:2.0
PRODID:-//Pennsylvanians Together - ECPv6.15.20//NONSGML v1.0//EN
CALSCALE:GREGORIAN
METHOD:PUBLISH
X-WR-CALNAME:Pennsylvanians Together
X-ORIGINAL-URL:http://pennsylvanianstogether.org
X-WR-CALDESC:Events for Pennsylvanians Together
REFRESH-INTERVAL;VALUE=DURATION:PT1H
X-Robots-Tag:noindex
X-PUBLISHED-TTL:PT1H
BEGIN:VTIMEZONE
TZID:UTC
BEGIN:STANDARD
TZOFFSETFROM:+0000
TZOFFSETTO:+0000
TZNAME:UTC
DTSTART:20230101T000000
END:STANDARD
END:VTIMEZONE
BEGIN:VEVENT
DTSTART;TZID=UTC:20240910T203000
DTEND;TZID=UTC:20240910T220000
DTSTAMP:20260419T191734
CREATED:20240910T153710Z
LAST-MODIFIED:20240922T072619Z
UID:802080-1726000200-1726005600@pennsylvanianstogether.org
SUMMARY:Presidential Debate Watch Party (People Power PA)
DESCRIPTION:About this event\n\n\n\n\n\n\n\nOur virtual watch party for the September 10th debate is your go-to destination for “Harris versus Trump.” Join the community of PA voters as we watch Kamala Harris advocate for the issues that matter to you.\nThis interactive event will include community-building\, prizes\, and special guests:\n\nAFT President Randi Weingarten\nState Senator Vincent Hughes\nTo register for this event\, please go to: https://www.mobilize.us/forourfuturepa/event/686784/.
URL:http://pennsylvanianstogether.org/event/presidential-debate-watch-party-people-power-pa/
CATEGORIES:Party/Event,Virtual
ATTACH;FMTTYPE=image/png:http://pennsylvanianstogether.org/wp-content/uploads/2024/09/DebateWatchPartyImage.png
END:VEVENT
END:VCALENDAR